BEGIN:VCALENDAR
VERSION:2.0
PRODID:-//wp-events-plugin.com//6.4.7.2//EN
TZID:Europe/London
X-WR-TIMEZONE:Europe/London
BEGIN:VEVENT
UID:4946@whatson.org.uk
DTSTART;TZID=Europe/London:20260802T110000
DTEND;TZID=Europe/London:20260802T170000
DTSTAMP:20260314T185559Z
URL:https://whatson.org.uk/wo/events/5-parishes-show/
SUMMARY:5 Parishes Show
DESCRIPTION:Sunday 2nd August 2026 sees the 90th Five Parishes Show held at
  Peldon\, near Colchester. We are looking forward to celebrating that mile
 stone with friends both old and new.  It is a really great day out for al
 l the family providing excellent value for money.\n\nAs far as we know\, t
 he show began in 1926 as a simple flower show and has grown from there.  
 There are no existing records for it as far back as that\, but we know tha
 t the Five Parishes Horticultural Society was affiliated to the Royal Hort
 icultural Society in 1939.  There was a gap of five years during the war 
 when no show was held\, but it has run every year\, with six exceptions\, 
 since then. The show has moved around within the 5 Parishes over the years
 \, including a 40-year stint on the Army Ranges at Fingringhoe.  We now h
 ave a new\, permanent home in Peldon and would love to see you there.\n\nM
 any things have changed since 1926 – insurance then cost 1/-\, now it co
 sts us about £1\,500. However\, what hasn’t changed are the values of t
 he show.  It has always been really important to us to keep the show as a
  traditional\, country show.  The show is run entirely by volunteers and 
 is non-profit making.  All money raised on the day goes back into running
  the show the following year and we try to support as many charities as po
 ssible.\n\nThis year\, a full afternoon’s main ring entertainment includ
 es: M.A.D. BMX display\, K&amp\;H Falconry with their birds of prey\, The 
 Romford Drum &amp\; Trumpet Corp\, Tendring Dog Agility and\, of course\, 
 our own very popular Musical Bales for dogs and their owners.  There are 
 many other attractions on the show ground including craft stalls\, a cater
 ing village\, the horticultural marquee\, East Anglian Kite Fliers\, etc.
   Also on site are the Horse Show and Dog Show.\n\nAll information\, incl
 uding schedules\, prices and tickets is available at 5parishesshow.org.uk.
  Early Bird tickets are £10 for adults\, £4 for children 5-16 and childr
 en under 5 go free.  On the day tickets are £12 for adults\, £5 for chi
 ldren 5-16 so you could save yourself £6 by buying tickets in advance.  
 Visit 5parishesshow.org.uk or follow us on Facebook.\n\n[osm_map_v3 map_ce
 nter="51.8209\,0.9033" zoom="9.0" width="95%" height="450" post_markers="1
 " ]
CATEGORIES:fetes, shows
LOCATION:Pete Tye Farm\, Peldon Road\, Abberton\, Colchester\, Essex\, CO5 
 7PE\, EAST - south\, United Kingdom
GEO:51.8217105;0.90027194
X-APPLE-STRUCTURED-LOCATION;VALUE=URI;X-ADDRESS=Peldon Road\, Abberton\, Co
 lchester\, Essex\, CO5 7PE\, EAST - south\, United Kingdom;X-APPLE-RADIUS=
 100;X-TITLE=Pete Tye Farm:geo:51.8217105,0.90027194
END:VEVENT
BEGIN:VTIMEZONE
TZID:Europe/London
X-LIC-LOCATION:Europe/London
BEGIN:DAYLIGHT
DTSTART:20260329T020000
TZOFFSETFROM:+0000
TZOFFSETTO:+0100
TZNAME:BST
END:DAYLIGHT
END:VTIMEZONE
END:VCALENDAR