BEGIN:VCALENDAR
VERSION:2.0
PRODID:-//wp-events-plugin.com//6.4.7.2//EN
TZID:Europe/London
X-WR-TIMEZONE:Europe/London
BEGIN:VEVENT
UID:4853@whatson.org.uk
DTSTART;TZID=Europe/London:20260321T190000
DTEND;TZID=Europe/London:20260321T220000
DTSTAMP:20260302T072735Z
URL:https://whatson.org.uk/wo/events/acoustic-magic-featuring-derek-from-w
 e-steal-flyers/
SUMMARY:ACOUSTIC MAGIC - Featuring Derek from We Steal Flyers
DESCRIPTION:Event: https://facebook.com/events/s/acoustic-magic-featuring-d
 erek/831833456573314/\n\nAcoustic Magic is a singer/songwriter showcase fe
 aturing Derek from We Steal Flyers.\n\nDerek is half of We Steal Flyers. A
 n award winning international touring duo. Covid put an end to their 250 g
 igs a year in UK and Europe. New albums are on the way. Until then Derek i
 s making his way around the UK.\n\nDescribed as having "...an outstanding 
 and unique voice\, guaranteed to give you goosebumps..." If you know\, you
  know \n\nOnce seen\, never forgotten.\n\nTickets £6.50 advance. £10 on 
 the door\n\n
CATEGORIES:music
LOCATION:The Boat Shack\, Not sure\, Oxfordshire\, OX\, Mid\, United Kingdo
 m
X-APPLE-STRUCTURED-LOCATION;VALUE=URI;X-ADDRESS=Not sure\, Oxfordshire\, OX
 \, Mid\, United Kingdom;X-APPLE-RADIUS=100;X-TITLE=The Boat Shack:geo:0,0
END:VEVENT
BEGIN:VTIMEZONE
TZID:Europe/London
X-LIC-LOCATION:Europe/London
BEGIN:STANDARD
DTSTART:20251026T010000
TZOFFSETFROM:+0100
TZOFFSETTO:+0000
TZNAME:GMT
END:STANDARD
END:VTIMEZONE
END:VCALENDAR