BEGIN:VCALENDAR
VERSION:2.0
PRODID:-//wp-events-plugin.com//6.4.7.2//EN
TZID:Europe/London
X-WR-TIMEZONE:Europe/London
BEGIN:VEVENT
UID:5129@whatson.org.uk
DTSTART;TZID=Europe/London:20260614T090000
DTEND;TZID=Europe/London:20260614T150000
DTSTAMP:20260320T065200Z
URL:https://whatson.org.uk/wo/events/artisan-craft-and-food-market/
SUMMARY:Artisan Craft and Food Market
DESCRIPTION:Event: https://facebook.com/events/s/artisan-craft-food-market/
 1435545554582282/\n\nStep into a vibrant outdoor market filled with lots o
 f craft and food stalls\, offering everything from handmade goods to delic
 ious local treats. Enjoy the lively sounds of live music as you browse\, c
 reating a fun and welcoming summer atmosphere for all. Entry is just £2.5
 0\, and it's free for under 16s\, making it the perfect outing for familie
 s and friends alike. Come along\, explore\, and support local artisans and
  producers 
CATEGORIES:farmers', makers' and artisan mkts
LOCATION:Himley Hall and Park\, Not sure\, Oxfordshire\, OX\, Mid\, United 
 Kingdom
X-APPLE-STRUCTURED-LOCATION;VALUE=URI;X-ADDRESS=Not sure\, Oxfordshire\, OX
 \, Mid\, United Kingdom;X-APPLE-RADIUS=100;X-TITLE=Himley Hall and Park:ge
 o:0,0
END:VEVENT
BEGIN:VTIMEZONE
TZID:Europe/London
X-LIC-LOCATION:Europe/London
BEGIN:DAYLIGHT
DTSTART:20260329T020000
TZOFFSETFROM:+0000
TZOFFSETTO:+0100
TZNAME:BST
END:DAYLIGHT
END:VTIMEZONE
END:VCALENDAR