BEGIN:VCALENDAR
VERSION:2.0
PRODID:-//wp-events-plugin.com//6.4.7.2//EN
TZID:Europe/London
X-WR-TIMEZONE:Europe/London
BEGIN:VEVENT
UID:4695@whatson.org.uk
DTSTART;TZID=Europe/London:20260425T110000
DTEND;TZID=Europe/London:20260425T193000
DTSTAMP:20260216T093658Z
URL:https://whatson.org.uk/wo/events/belbroughton-music-festival-2026/
SUMMARY:Belbroughton Music Festival 2026
DESCRIPTION:
CATEGORIES:food / drink / music festival
LOCATION:Belbroughton Recreation Centre - &quot\;The Rec&quot\;\, Not sure\
 , Oxfordshire\, OX\, Mid\, United Kingdom
X-APPLE-STRUCTURED-LOCATION;VALUE=URI;X-ADDRESS=Not sure\, Oxfordshire\, OX
 \, Mid\, United Kingdom;X-APPLE-RADIUS=100;X-TITLE=Belbroughton Recreation
  Centre - \"The Rec\":geo:0,0
END:VEVENT
BEGIN:VTIMEZONE
TZID:Europe/London
X-LIC-LOCATION:Europe/London
BEGIN:DAYLIGHT
DTSTART:20260329T020000
TZOFFSETFROM:+0000
TZOFFSETTO:+0100
TZNAME:BST
END:DAYLIGHT
END:VTIMEZONE
END:VCALENDAR