BEGIN:VCALENDAR
VERSION:2.0
PRODID:-//wp-events-plugin.com//6.4.7.2//EN
TZID:Europe/London
X-WR-TIMEZONE:Europe/London
BEGIN:VEVENT
UID:5126@whatson.org.uk
DTSTART;TZID=Europe/London:20260530T090000
DTEND;TZID=Europe/London:20260531T160000
DTSTAMP:20260320T065150Z
URL:https://whatson.org.uk/wo/events/dine-n-devour-food-and-artisan-festiv
 al-tettenhall-30th-and-31st-may-2025/
SUMMARY:Dine 'N' Devour   Food and Artisan Festival   Tettenhall   30th and
  31st May 2025
DESCRIPTION:
CATEGORIES:food / drink / music festival
LOCATION:Tettenhall Green\, Not sure\, Oxfordshire\, OX\, Mid\, United King
 dom
X-APPLE-STRUCTURED-LOCATION;VALUE=URI;X-ADDRESS=Not sure\, Oxfordshire\, OX
 \, Mid\, United Kingdom;X-APPLE-RADIUS=100;X-TITLE=Tettenhall Green:geo:0,
 0
END:VEVENT
BEGIN:VTIMEZONE
TZID:Europe/London
X-LIC-LOCATION:Europe/London
BEGIN:DAYLIGHT
DTSTART:20260329T020000
TZOFFSETFROM:+0000
TZOFFSETTO:+0100
TZNAME:BST
END:DAYLIGHT
END:VTIMEZONE
END:VCALENDAR