BEGIN:VCALENDAR
VERSION:2.0
PRODID:-//wp-events-plugin.com//6.4.7.2//EN
TZID:Europe/London
X-WR-TIMEZONE:Europe/London
BEGIN:VEVENT
UID:1353@whatson.org.uk
DTSTART;TZID=Europe/London:20250406T093000
DTEND;TZID=Europe/London:20250406T153000
DTSTAMP:20250212T185348Z
URL:https://whatson.org.uk/wo/events/dudmaston-estate-april-fair/
SUMMARY:Dudmaston Estate April Fair
DESCRIPTION:This event is held within National Trust grounds\, therefore it
  is free for National Trust members\, but non-members will need to pay the
  standard entry fees which allow you access to not just the fair\, but als
 o the grounds and local attractions as well.\n\nParking is FREE in the mai
 n car park. Please visit the National Trust Dudmaston page for full locati
 on details and entrance prices: https://www.nationaltrust.org.uk/dudmaston
 \n.\nMade in Shropshire and The National Trust are delighted to co-host th
 is wonderful Springtime Fair.\n\nHeld in the grounds of Dudmaston Hall in 
 Shropshire\, this handmade fair will have a great selection of approximate
 ly 30 high quality and unique art\, craft and food stalls.\n\nAll stall ho
 lders create their own products locally and stalls will be located near th
 e main entrance\, in the stable yard and in the orchard.\n\nThe event has 
 been carefully curated to ensure a good mix of items to suit most tastes a
 nd budgets.\n\nPlease note that this event is outdoors (under gazebos) and
  is subject to cancellation if strong winds or storms are forecast.\n.\nPO
 TENTIAL STALL HOLDERS: Made in Shropshire is a membership based organisati
 on and all applications must be made via our website: www.madeinshropshire
 .org/faq . We do not accept applications via social media or PayPal paymen
 ts - any posts or comments suggesting otherwise must be ignored as potenti
 al scams.\n\nAll stall holders must live/work within Shropshire and make/d
 esign their own products.
CATEGORIES:fetes, shows
LOCATION:Dudmaston Hall NT\, Bridgnorth\, Dudmaston Hall\, Quatt\, Bridgnor
 th\, Shropshire\, WV15 6QN\, west central\, United Kingdom
GEO:52.49648215;-2.37484697
X-APPLE-STRUCTURED-LOCATION;VALUE=URI;X-ADDRESS=Dudmaston Hall\, Quatt\, Br
 idgnorth\, Shropshire\, WV15 6QN\, west central\, United Kingdom;X-APPLE-R
 ADIUS=100;X-TITLE=Dudmaston Hall NT\, Bridgnorth:geo:52.49648215,-2.374846
 97
END:VEVENT
BEGIN:VTIMEZONE
TZID:Europe/London
X-LIC-LOCATION:Europe/London
BEGIN:DAYLIGHT
DTSTART:20250330T020000
TZOFFSETFROM:+0000
TZOFFSETTO:+0100
TZNAME:BST
END:DAYLIGHT
END:VTIMEZONE
END:VCALENDAR