BEGIN:VCALENDAR
VERSION:2.0
PRODID:-//wp-events-plugin.com//6.4.7.2//EN
TZID:Europe/London
X-WR-TIMEZONE:Europe/London
BEGIN:VEVENT
UID:173@whatson.org.uk
DTSTART;TZID=Europe/London:20241109T090000
DTEND;TZID=Europe/London:20241109T140000
DTSTAMP:20240302T081858Z
URL:https://whatson.org.uk/wo/events/edinburgh-farmers-mkt-2024-11-09/
SUMMARY:Edinburgh Farmers' mkt
DESCRIPTION:&nbsp\;
CATEGORIES:farmers', makers' and artisan mkts
LOCATION:Edinburgh castle\, Edinburgh castle terrace NCP car pk\, Edinburgh
 \, Edinburgh\, EH1 2EN\, Scotland\, United Kingdom
GEO:55.94831514;-3.19815478
X-APPLE-STRUCTURED-LOCATION;VALUE=URI;X-ADDRESS=Edinburgh castle terrace NC
 P car pk\, Edinburgh\, Edinburgh\, EH1 2EN\, Scotland\, United Kingdom;X-A
 PPLE-RADIUS=100;X-TITLE=Edinburgh castle:geo:55.94831514,-3.19815478
END:VEVENT
BEGIN:VTIMEZONE
TZID:Europe/London
X-LIC-LOCATION:Europe/London
BEGIN:STANDARD
DTSTART:20241027T010000
TZOFFSETFROM:+0100
TZOFFSETTO:+0000
TZNAME:GMT
END:STANDARD
END:VTIMEZONE
END:VCALENDAR