BEGIN:VCALENDAR
VERSION:2.0
PRODID:-//wp-events-plugin.com//6.4.7.2//EN
TZID:Europe/London
X-WR-TIMEZONE:Europe/London
BEGIN:VEVENT
UID:592@whatson.org.uk
DTSTART;TZID=Europe/London:20241116T000000
DTEND;TZID=Europe/London:20241116T000000
DTSTAMP:20240406T140903Z
URL:https://whatson.org.uk/wo/events/great-malvern-farmers-mkt-2024-11-16/
SUMMARY:Great Malvern Farmers' mkt
DESCRIPTION:
CATEGORIES:farmers', makers' and artisan mkts
LOCATION:Great Malvern Priory Grounds\, Church St\, Malvern\, Worcestershir
 e\, WR14 2AY\, Midlands\, United Kingdom
GEO:52.11124607;-2.32567978
X-APPLE-STRUCTURED-LOCATION;VALUE=URI;X-ADDRESS=Church St\, Malvern\, Worce
 stershire\, WR14 2AY\, Midlands\, United Kingdom;X-APPLE-RADIUS=100;X-TITL
 E=Great Malvern Priory Grounds:geo:52.11124607,-2.32567978
END:VEVENT
BEGIN:VTIMEZONE
TZID:Europe/London
X-LIC-LOCATION:Europe/London
BEGIN:STANDARD
DTSTART:20241027T010000
TZOFFSETFROM:+0100
TZOFFSETTO:+0000
TZNAME:GMT
END:STANDARD
END:VTIMEZONE
END:VCALENDAR