BEGIN:VCALENDAR
VERSION:2.0
PRODID:-//wp-events-plugin.com//6.4.7.2//EN
TZID:Europe/London
X-WR-TIMEZONE:Europe/London
BEGIN:VEVENT
UID:4696@whatson.org.uk
DTSTART;TZID=Europe/London:20260503T090000
DTEND;TZID=Europe/London:20260503T120000
DTSTAMP:20260216T093948Z
URL:https://whatson.org.uk/wo/events/south-wales-car-festival-2026/
SUMMARY:South Wales Car Festival 2026
DESCRIPTION:Event: https://facebook.com/events/s/south-wales-car-festival-2
 026/3234184953417834/\n\nAs well as cars we will offer something for the w
 hole family including bars\, street food\, kids corner\, live music\, ente
 rtainment\, craft stalls and local produce.\n \nWe welcome an increasing n
 umber of vehicles each year\, including but not limited to Porsche\, Lambo
 rghini\, Ferrari\, Modified Fiesta\, Audi and Emergency service vehicles. 
 We pride ourselves on ensuring that the event will be a whole family affai
 r. 
CATEGORIES:food / drink / music festival
LOCATION:Chepstow Racecourse\, Not sure\, Oxfordshire\, OX\, Mid\, United K
 ingdom
X-APPLE-STRUCTURED-LOCATION;VALUE=URI;X-ADDRESS=Not sure\, Oxfordshire\, OX
 \, Mid\, United Kingdom;X-APPLE-RADIUS=100;X-TITLE=Chepstow Racecourse:geo
 :0,0
END:VEVENT
BEGIN:VTIMEZONE
TZID:Europe/London
X-LIC-LOCATION:Europe/London
BEGIN:DAYLIGHT
DTSTART:20260329T020000
TZOFFSETFROM:+0000
TZOFFSETTO:+0100
TZNAME:BST
END:DAYLIGHT
END:VTIMEZONE
END:VCALENDAR