BEGIN:VCALENDAR
VERSION:2.0
PRODID:-//wp-events-plugin.com//6.4.7.2//EN
TZID:Europe/London
X-WR-TIMEZONE:Europe/London
BEGIN:VEVENT
UID:5124@whatson.org.uk
DTSTART;TZID=Europe/London:20260517T100000
DTEND;TZID=Europe/London:20260517T150000
DTSTAMP:20260320T065148Z
URL:https://whatson.org.uk/wo/events/spring-craft-fair/
SUMMARY:Spring Craft Fair
DESCRIPTION:Event: https://facebook.com/events/s/spring-craft-fair/87753833
 5168473/\n\nCome along and do some indoor shopping in the wonderful surrou
 ndings of Highbury Hall.  \n\nFrom a variety of stalls selling lots of dif
 ferent crafts including prints\, pottery\, jewellery and lots more.\n\nYou
  can then take a break from shopping and have a bite to eat in the Dorothy
  Lloyd Bar.\n\nEntrance fee for adults is priced at £1.50\, children unde
 r the age of 12 are free of charge.  \n\nFor further information\, email c
 ivic.catering@birmingham.gov.uk or call 0121 303 2050
CATEGORIES:fetes, shows
LOCATION:Highbury Hall\, Somerset\, South - north west\, United Kingdom
X-APPLE-STRUCTURED-LOCATION;VALUE=URI;X-ADDRESS=Somerset\, South - north we
 st\, United Kingdom;X-APPLE-RADIUS=100;X-TITLE=Highbury Hall:geo:0,0
END:VEVENT
BEGIN:VTIMEZONE
TZID:Europe/London
X-LIC-LOCATION:Europe/London
BEGIN:DAYLIGHT
DTSTART:20260329T020000
TZOFFSETFROM:+0000
TZOFFSETTO:+0100
TZNAME:BST
END:DAYLIGHT
END:VTIMEZONE
END:VCALENDAR