BEGIN:VCALENDAR
VERSION:2.0
PRODID:-//wp-events-plugin.com//6.4.7.2//EN
TZID:Europe/London
X-WR-TIMEZONE:Europe/London
BEGIN:VEVENT
UID:5122@whatson.org.uk
DTSTART;TZID=Europe/London:20260509T190000
DTEND;TZID=Europe/London:20260509T220000
DTSTAMP:20260320T065146Z
URL:https://whatson.org.uk/wo/events/straighten-out-the-stranglers-tribute
 -live-at-the-vic/
SUMMARY:STRAIGHTEN OUT (The Stranglers Tribute) - live at The Vic
DESCRIPTION:Event: https://facebook.com/events/s/straighten-out-the-strangl
 ers-/1599143381284066/\n\nStraighten Out are the world's premier Strangler
 s tribute band with an extensive set that spans two solid hours as they re
 -create the 'early years' sound of The Stranglers\, complete with a Hammon
 d organ and Minimoog synth  the same models used by Mr. Greenfield himself
 \, back in the day \nThe growling bass sound and the quirky guitar riffs a
 re all there to be heard as is the dual vocal 'attack' from the two frontm
 en a-la Burnel/Cornwell as they rip through the Stranglers' classic: 'Peac
 hes'\, 'Hanging Around'\, 'No More Heroes'\, '5 Minutes'\, 'The Raven'\, '
 Walk On By'\, 'Straighten Out'\, 'Down In The Sewer' and many more as they
  cover the Stranglers' early classic albums and beyond.\nStraighten Out wi
 ll take you on a nostalgia trip that transports you back to those raw\, po
 werful\, exhilarating times when The Stranglers emerged through the quagmi
 re of mediocrity to produce some of the finest music ever written. Straigh
 ten Out will put you back in that place \nwww.straightenoutband.co.uk
CATEGORIES:music
LOCATION:88 Victoria Road - SN1 3BD\, Not sure\, Wiltshire\, SN1 3BD\, Sout
 h - north west\, United Kingdom
X-APPLE-STRUCTURED-LOCATION;VALUE=URI;X-ADDRESS=Not sure\, Wiltshire\, SN1 
 3BD\, South - north west\, United Kingdom;X-APPLE-RADIUS=100;X-TITLE=88 Vi
 ctoria Road - SN1 3BD:geo:0,0
END:VEVENT
BEGIN:VTIMEZONE
TZID:Europe/London
X-LIC-LOCATION:Europe/London
BEGIN:DAYLIGHT
DTSTART:20260329T020000
TZOFFSETFROM:+0000
TZOFFSETTO:+0100
TZNAME:BST
END:DAYLIGHT
END:VTIMEZONE
END:VCALENDAR