BEGIN:VCALENDAR
VERSION:2.0
PRODID:-//wp-events-plugin.com//6.4.7.2//EN
TZID:Europe/London
X-WR-TIMEZONE:Europe/London
BEGIN:VEVENT
UID:5131@whatson.org.uk
DTSTART;TZID=Europe/London:20260627T090000
DTEND;TZID=Europe/London:20260627T143000
DTSTAMP:20260320T065202Z
URL:https://whatson.org.uk/wo/events/summer-artisan-market-at-harvington-h
 all/
SUMMARY:Summer Artisan Market at Harvington Hall
DESCRIPTION:Event: https://facebook.com/events/s/summer-artisan-market-at-h
 arvi/2286050968584713/\n\nCome to support small and local businesses\, hav
 e a coffee and something to eat at The Malt House Coffee shop and book a t
 our of Harvington Hall to make a day out.  \n\nEntry to market is free   \
 n\nFor any queries\, please contact The Radiant Fox via email at theradian
 tfox@hotmail.com. \n\nWe look forward to seeing you there.  
CATEGORIES:farmers', makers' and artisan mkts
LOCATION:Harvington Hall\, Kidderminster\, Harvington Hall\, Kidderminster 
 \, Worcestershire \, DY10 4LR\, Midlands\, United Kingdom
X-APPLE-STRUCTURED-LOCATION;VALUE=URI;X-ADDRESS=Harvington Hall\, Kiddermin
 ster \, Worcestershire \, DY10 4LR\, Midlands\, United Kingdom;X-APPLE-RAD
 IUS=100;X-TITLE=Harvington Hall\, Kidderminster:geo:0,0
END:VEVENT
BEGIN:VTIMEZONE
TZID:Europe/London
X-LIC-LOCATION:Europe/London
BEGIN:DAYLIGHT
DTSTART:20260329T020000
TZOFFSETFROM:+0000
TZOFFSETTO:+0100
TZNAME:BST
END:DAYLIGHT
END:VTIMEZONE
END:VCALENDAR