BEGIN:VCALENDAR
VERSION:2.0
PRODID:-//wp-events-plugin.com//6.4.7.2//EN
TZID:Europe/London
X-WR-TIMEZONE:Europe/London
BEGIN:VEVENT
UID:1559@whatson.org.uk
DTSTART;TZID=Europe/London:20250406T070000
DTEND;TZID=Europe/London:20250406T100000
DTSTAMP:20250317T050626Z
URL:https://whatson.org.uk/wo/events/the-alan-healy-memorial-rally-2025/
SUMMARY:The Alan Healy Memorial Rally 2025
DESCRIPTION:
END:VEVENT
BEGIN:VTIMEZONE
TZID:Europe/London
X-LIC-LOCATION:Europe/London
BEGIN:DAYLIGHT
DTSTART:20250330T020000
TZOFFSETFROM:+0000
TZOFFSETTO:+0100
TZNAME:BST
END:DAYLIGHT
END:VTIMEZONE
END:VCALENDAR