BEGIN:VCALENDAR
VERSION:2.0
PRODID:-//wp-events-plugin.com//6.4.7.2//EN
TZID:Europe/London
X-WR-TIMEZONE:Europe/London
BEGIN:VEVENT
UID:5156@whatson.org.uk
DTSTART;TZID=Europe/London:20260605T090000
DTEND;TZID=Europe/London:20260607T150000
DTSTAMP:20260327T181209Z
URL:https://whatson.org.uk/wo/events/wild-heart-festival-mind-body-soul/
SUMMARY:Wild Heart Festival - Mind Body Soul
DESCRIPTION:
CATEGORIES:food / drink / music festival
LOCATION:Kenwood House\, Hampstead Ln\, London\, Greater London\, NW3 7JR\,
  South East\, United Kingdom
X-APPLE-STRUCTURED-LOCATION;VALUE=URI;X-ADDRESS=Hampstead Ln\, London\, Gre
 ater London\, NW3 7JR\, South East\, United Kingdom;X-APPLE-RADIUS=100;X-T
 ITLE=Kenwood House:geo:0,0
END:VEVENT
BEGIN:VTIMEZONE
TZID:Europe/London
X-LIC-LOCATION:Europe/London
BEGIN:DAYLIGHT
DTSTART:20260329T020000
TZOFFSETFROM:+0000
TZOFFSETTO:+0100
TZNAME:BST
END:DAYLIGHT
END:VTIMEZONE
END:VCALENDAR