BEGIN:VCALENDAR
VERSION:2.0
PRODID:-//wp-events-plugin.com//6.4.7.2//EN
TZID:Europe/London
X-WR-TIMEZONE:Europe/London
BEGIN:VEVENT
UID:2681@whatson.org.uk
DTSTART;TZID=Europe/London:20251031T230300
DTEND;TZID=Europe/London:20251101T020300
DTSTAMP:20251025T202708Z
URL:https://whatson.org.uk/wo/events/zarzar-opening-night/
SUMMARY:ZarZar Opening Night
DESCRIPTION:Event: https://facebook.com/events/s/zarzar-opening-night/42779
 68262489953/\n\n    A Huge Thank You    \n\nWe'd like to take a moment to 
 thank everyone at Chicago Rock and all the amazing staff who worked so har
 d to help ZarZar make the move into Club Neo\, now the brand-new ZarZar   
   \n\nWe're truly grateful for all the kind words\, encouragement\, and co
 ngratulations we've received about the move     your support means the wor
 ld to us.\n\nOur goal with ZarZar is simple: to bring more fantastic eveni
 ng events to Yeovil. By doing so\, we hope to create even more buzz and en
 ergy that benefits not just us\, but also the pubs\, clubs\, bars\, and re
 staurants in the area.\n\n    Stay tuned  We'll soon be confirming dates f
 or our very first Comedy Night\, along with live bands\, tribute acts\, an
 d some unforgettable themed nights.\n\nWe can't wait to welcome you all an
 d make ZarZar the home of great nights out in Yeovil           \n\nBig ope
 ning night for the new Nightclub ZarZar \n\nTicket line https://square.lin
 k/u/L240CEIH\n\n#ZarZar #YeovilNights #LiveEvents #thankyouforyoursupport
CATEGORIES:crafts
LOCATION:Yeovil Rugby Club\, Church Ln\, Yeovil\, Someset\, BA22 9TR\, Sout
 h west\, United Kingdom
GEO:50.92342034;-2.63440232
X-APPLE-STRUCTURED-LOCATION;VALUE=URI;X-ADDRESS=Church Ln\, Yeovil\, Somese
 t\, BA22 9TR\, South west\, United Kingdom;X-APPLE-RADIUS=100;X-TITLE=Yeov
 il Rugby Club:geo:50.92342034,-2.63440232
END:VEVENT
BEGIN:VTIMEZONE
TZID:Europe/London
X-LIC-LOCATION:Europe/London
BEGIN:STANDARD
DTSTART:20251026T010000
TZOFFSETFROM:+0100
TZOFFSETTO:+0000
TZNAME:GMT
END:STANDARD
END:VTIMEZONE
END:VCALENDAR